BEGIN:VCALENDAR
VERSION:2.0
CALSCALE:GREGORIAN
PRODID:adamgibbons/ics
METHOD:PUBLISH
X-PUBLISHED-TTL:PT1H
BEGIN:VEVENT
UID:61@meet.harmreduction.works
SUMMARY:[Harm Reduction Works] SF HRW
DTSTAMP:20260425T113952Z
DTSTART:20240206T020000Z
DTEND:20240206T033000Z
DESCRIPTION:A peer-hosted meeting\, available online and in person in San F
	rancisco.
URL:https://meet.harmreduction.works/event/sf-hrw
GEO:37.76650704761905;-122.42122052380952
LOCATION:St. John's - 1661 15th St.\, San Francisco CA
STATUS:CONFIRMED
CATEGORIES:focused,hrw,in-person,online
X-ALT-DESC;FMTTYPE=text/html:<p>A peer-hosted meeting, available online and
	 in person in San Francisco.</p>
END:VEVENT
END:VCALENDAR
